BEGIN:VCALENDAR
VERSION:2.0
PRODID:-//wp-events-plugin.com//7.2.3.1//EN
TZID:Europe/Zurich
X-WR-TIMEZONE:Europe/Zurich
BEGIN:VEVENT
UID:22@allwindsadventures.com
DTSTART;TZID=Europe/Zurich:20260127T193000
DTEND;TZID=Europe/Zurich:20260127T203000
DTSTAMP:20260124T102007Z
URL:https://allwindsadventures.com/events/understanding-tides-theory-cours
 e
SUMMARY:Theory: Tides
DESCRIPTION:Join our online session on understanding tides. From reading ti
 de tables and tidal streams to springs and neaps. Perfect for sailors\, wi
 ndsurfers\, and yachtmaster candidates.
ATTACH;FMTTYPE=image/jpeg:https://allwindsadventures.com/wp-content/upload
 s/2026/01/Gemini_Generated_Image_xfo5pvxfo5pvxfo5-scaled.png
CATEGORIES:Afterwork Activity,Online Event,Sailing,Theory,Watersports
LOCATION:https://meet.google.com/twb-iyfa-fkg
END:VEVENT
BEGIN:VTIMEZONE
TZID:Europe/Zurich
X-LIC-LOCATION:Europe/Zurich
BEGIN:STANDARD
DTSTART:20251026T020000
TZOFFSETFROM:+0200
TZOFFSETTO:+0100
TZNAME:CET
END:STANDARD
END:VTIMEZONE
END:VCALENDAR