BEGIN:VCALENDAR
VERSION:2.0
PRODID:-//wp-events-plugin.com//7.2.3.1//EN
TZID:Europe/Zurich
X-WR-TIMEZONE:Europe/Zurich
BEGIN:VEVENT
UID:23@allwindsadventures.com
DTSTART;TZID=Europe/Zurich:20260310T193000
DTEND;TZID=Europe/Zurich:20260310T203000
DTSTAMP:20260217T112314Z
URL:https://allwindsadventures.com/events/catastrophe-management-sailing-t
 heory
SUMMARY:Catastrophe Management at Sea: Interactive Sailing Safety Workshop
DESCRIPTION:Don’t just learn the theory—workshop the reality. This is a
  free\, interactive session on crisis management\, skipper mindset\, and t
 he psychology of survival.\nWhen the engine fails on a lee shore or the ri
 g comes down\, a textbook isn't enough. You need a plan\, and you need the
  right mindset.\nJoin All Winds Adventures for a collaborative workshop de
 signed for sailors\, skippers\, and windsurfers. Facilitated by Dave\, a w
 atersports coach with 35 years of experience and a background in Sports Sc
 ience\, this session goes beyond standard theory.\nWhat We Will Workshop:\
 n\n\n 	The Psychology of Panic: Using sports science principles to underst
 and how stress affects decision-making at sea.\n 	The "10-Second Reset": P
 ractical mental tools to regain control when chaos hits.\n 	Scenario Analy
 sis: We invite YOU to bring your "near-miss" stories. We will anonymously 
 analyse real scenarios from the group to discuss what went wrong and how t
 o fix it.\n 	Prevention vs. Cure: Identifying the "Chain of Disaster" befo
 re it breaks.\n\nWho is this for?\n\n\n 	Skippers wanting to improve crew 
 safety.\n 	Crew members who want to be helpful\, not helpless\, in a crisi
 s.\n 	Anyone interested in the "Human Factor" of sailing.\n\nPrice: Free (
 Registration Required)\nLocation: Online (Google Meet)\nRSVP to get the li
 nk and join the discussion.\n\nThe URL to join the meeting will be sent by
  email to all confirmed attendees.\n\nWhat to bring:\nAn open mind and you
 r best challenging situations!\n&nbsp\;\n\nInsurance is the responsibility
  of the participant. By RSVPing “yes” you agree to act responsibly at 
 all times on this event and to not hold Swiss Alpine Adventure/All Winds A
 dventures/Windsurfing and other Watersports or any person involved respons
 ible for any injury or loss which may occur in relation to the event.\n\nW
 e also encourage participants to have cancellation insurance in case they 
 can not attend events at the last minute due to illness\, injury or any ot
 her reasons. We cannot give refunds for cancellations within the last 30 d
 ays before the event starts.\n\nDisclaimer:\nAll participants take part in
  events or activities facilitated by Swiss Alpine Adventure/All Winds Adve
 ntures/Windsurfing and other Watersports entirely at their own risk. Swiss
  Alpine Adventure/All Winds Adventures does not accept liability for damag
 e to property\, death or personal injury that may occur whilst taking part
  in activities or events organised by Swiss Alpine Adventure/All Winds Adv
 entures. It is your responsibility to make sure your equipment is maintain
 ed and in safe working order. We reserve the right to stop you from partic
 ipating with us if your equipment is badly maintained or not in safe worki
 ng order. Whilst we endeavour to make sure that the information on this we
 bsite pertaining to routes and trails is correct\, we do not warrant its c
 ompleteness or accuracy.
ATTACH;FMTTYPE=image/jpeg:https://allwindsadventures.com/wp-content/upload
 s/2026/01/Sailing-Catastrophe-Management-1.png
CATEGORIES:Afterwork Activity,Online Event,Sailing,Theory
LOCATION:https://meet.google.com/hug-yddn-unt
END:VEVENT
BEGIN:VTIMEZONE
TZID:Europe/Zurich
X-LIC-LOCATION:Europe/Zurich
BEGIN:STANDARD
DTSTART:20251026T020000
TZOFFSETFROM:+0200
TZOFFSETTO:+0100
TZNAME:CET
END:STANDARD
END:VTIMEZONE
END:VCALENDAR